BEGIN:VCALENDAR
VERSION:2.0
PRODID:-//Helping Hearts Recovery - ECPv6.15.20//NONSGML v1.0//EN
CALSCALE:GREGORIAN
METHOD:PUBLISH
X-WR-CALNAME:Helping Hearts Recovery
X-ORIGINAL-URL:https://helpingheartsrecovery.com
X-WR-CALDESC:Events for Helping Hearts Recovery
REFRESH-INTERVAL;VALUE=DURATION:PT1H
X-Robots-Tag:noindex
X-PUBLISHED-TTL:PT1H
BEGIN:VTIMEZONE
TZID:UTC
BEGIN:STANDARD
TZOFFSETFROM:+0000
TZOFFSETTO:+0000
TZNAME:UTC
DTSTART:20250101T000000
END:STANDARD
END:VTIMEZONE
BEGIN:VEVENT
DTSTART;TZID=UTC:20260410T160000
DTEND;TZID=UTC:20260418T200000
DTSTAMP:20260424T161139
CREATED:20250703T193458Z
LAST-MODIFIED:20260305T220508Z
UID:6971-1775836800-1776542400@helpingheartsrecovery.com
SUMMARY:Prime For Life Class
DESCRIPTION:2026 Prime For Life Online Class Registration\nPrime For Life® is an evidence-based motivational prevention\, intervention\, and pretreatment program specifically designed for people who may be making high-risk choices. The classes are judgment-free zones. Instructors don’t use fear-based approaches\, but instead encourage profound self-reflection. \nREGISTRATION DETAILS\nRegistration is required to attend this class. Multiple class dates are available each month\, year-round\, and listed below.\nYour registration and payment must be confirmed 10 business days before the start of your class date. \n\nClass Materials: Class materials are handed out in person during the first day of class to all in-person participants. For virtual participants\, class materials are mailed to their mailing address provided below before the class begins. \n* You MUST cancel within 24 hours. No Shows will forfeit payment and be required to re-register and re-pay.
URL:https://helpingheartsrecovery.com/event/prime-for-life-class/
ATTACH;FMTTYPE=image/png:https://helpingheartsrecovery.com/wp-content/uploads/2025/06/prime-for-life.png
ORGANIZER;CN="Ingrid Nalder":MAILTO:helpingheartsrecovery@gmail.com
END:VEVENT
END:VCALENDAR